Workbook

Sheet Dashboard
A1: DANNENBAUMSTRASSE 34 | SALES COCKPIT
A3: 20 Wohneinheiten | 15 separat verfügbare Stellplätze | Planstand 14.07.2026
A5: ="WOHNEINHEITEN"&CHAR(10)&TEXT(=COUNTA(Wohnungen!A2:A21),"0") | D5: ="WOHNFLÄCHE"&CHAR(10)&TEXT(=SUM(Wohnungen!D2:D21),"0.00 ""m²""") | G5: ="WOHNUNGSERLÖS"&CHAR(10)&TEXT(=SUM(Wohnungen!H2:H21),"#,##0 ""€""") | J5: ="GESAMTERLÖS"&CHAR(10)&TEXT(=SUM(Wohnungen!H2:H21)+SUM('Stellplätze'!B2:B16),"#,##0 ""€""")
A9: FLÄCHEN NACH ETAGE | H9: VERKAUFSBESTAND
A10: Etage | B10: Wohnfläche | H10: Position | I10: Anzahl
A11: Erdgeschoss | B11: 302.73 | H11: Wohnungen | I11: 20
A12: 1. Obergeschoss | B12: 381.22 | H12: Stellplätze | I12: 15
A13: 2. Obergeschoss | B13: 381.22 | H13: Gesamtpositionen | I13: 35
A14: Staffelgeschoss | B14: 292.21
A22: WICHTIGE VERKAUFSLOGIK
A24: Die 15 Stellplätze sind nicht fest mit einzelnen Wohnungen verbunden. Wohnungskaufpreise werden ausschließlich aus aktueller Wohnfläche × individuellem Preis pro m² berechnet. Stellplätze werden separat für jeweils 15.000,00 € verkauft und im eigenen Tabellenblatt verwaltet.

Sheet Wohnungen
A1: WE | B1: Etage | C1: Zimmer | D1: Wohnfläche m² | E1: Außenbereich | F1: Außenfläche real m² | G1: Preis / m² | H1: Wohnungskaufpreis | I1: Status | J1: Käufer / Interessent | K1: Reserviert bis | L1: Notartermin | M1: Bemerkungen
A2: 1 | B2: Erdgeschoss | C2: 2 | D2: 38.1 | E2: - | F2: 0 | G2: 4593.1759 | H2: =D2*G2 | I2: Verfügbar
A3: 2 | B3: Erdgeschoss | C3: 3 | D3: 60.71 | E3: Terrasse | F3: 8 | G3: 4365.014 | H3: =D3*G3 | I3: Verfügbar
A4: 3 | B4: Erdgeschoss | C4: 2 | D4: 55.27 | E4: Terrasse | F4: 8 | G4: 4342.3195 | H4: =D4*G4 | I4: Verfügbar
A5: 4 | B5: Erdgeschoss | C5: 3 | D5: 75.13 | E5: Terrasse | F5: 7.75 | G5: 4259.2839 | H5: =D5*G5 | I5: Verfügbar
A6: 5 | B6: Erdgeschoss | C6: 3 | D6: 73.52 | E6: Terrasse | F6: 7.44 | G6: 4284.5484 | H6: =D6*G6 | I6: Verfügbar
A7: 6 | B7: 1. Obergeschoss | C7: 2 | D7: 30.49 | E7: Balkon | F7: 4.12 | G7: 4591.6694 | H7: =D7*G7 | I7: Verfügbar
A8: 7 | B8: 1. Obergeschoss | C8: 3 | D8: 72.19 | E8: Balkon | F8: 7.41 | G8: 4294.2236 | H8: =D8*G8 | I8: Verfügbar
A9: 8 | B9: 1. Obergeschoss | C9: 3 | D9: 74.95 | E9: Balkon | F9: 7.41 | G9: 4269.513 | H9: =D9*G9 | I9: Verfügbar
A10: 9 | B10: 1. Obergeschoss | C10: 2 | D10: 55.17 | E10: Balkon | F10: 7.6 | G10: 4259.5614 | H10: =D10*G10 | I10: Verfügbar
A11: 10 | B11: 1. Obergeschoss | C11: 3 | D11: 74.98 | E11: Balkon | F11: 7.17 | G11: 4267.8047 | H11: =D11*G11 | I11: Verfügbar
A12: 11 | B12: 1. Obergeschoss | C12: 3 | D12: 73.43 | E12: Balkon | F12: 7.07 | G12: 4289.7998 | H12: =D12*G12 | I12: Verfügbar
A13: 12 | B13: 2. Obergeschoss | C13: 2 | D13: 30.49 | E13: Balkon | F13: 4.12 | G13: 4591.6694 | H13: =D13*G13 | I13: Verfügbar
... A21: 20 | B21: Staffelgeschoss | C21: 3 | D21: 112.89 | E21: Dachterrasse | F21: 33.94 | G21: 4561.963 | H21: =D21*G21 | I21: Verfügbar

Sheet Stellplätze
A1: Stellplatz Nr. | B1: Kaufpreis | C1: Status | D1: Käufer / Interessent | E1: Notartermin | F1: Bemerkungen
A2: 1 | B2: 15000 | C2: Verfügbar | F2: Nicht fest einer Wohnung zugeordnet
A3: 2 | B3: 15000 | C3: Verfügbar | F3: Nicht fest einer Wohnung zugeordnet
A4: 3 | B4: 15000 | C4: Verfügbar | F4: Nicht fest einer Wohnung zugeordnet
A5: 4 | B5: 15000 | C5: Verfügbar | F5: Nicht fest einer Wohnung zugeordnet
A6: 5 | B6: 15000 | C6: Verfügbar | F6: Nicht fest einer Wohnung zugeordnet
A7: 6 | B7: 15000 | C7: Verfügbar | F7: Nicht fest einer Wohnung zugeordnet
A8: 7 | B8: 15000 | C8: Verfügbar | F8: Nicht fest einer Wohnung zugeordnet
A9: 8 | B9: 15000 | C9: Verfügbar | F9: Nicht fest einer Wohnung zugeordnet
A10: 9 | B10: 15000 | C10: Verfügbar | F10: Nicht fest einer Wohnung zugeordnet
A11: 10 | B11: 15000 | C11: Verfügbar | F11: Nicht fest einer Wohnung zugeordnet
A12: 11 | B12: 15000 | C12: Verfügbar | F12: Nicht fest einer Wohnung zugeordnet
A13: 12 | B13: 15000 | C13: Verfügbar | F13: Nicht fest einer Wohnung zugeordnet
... A16: 15 | B16: 15000 | C16: Verfügbar | F16: Nicht fest einer Wohnung zugeordnet

Sheet Raumdaten
A1: WE | B1: Etage | C1: Raum | D1: Fläche m² | E1: Wohnungsfläche m² | F1: Zimmer | G1: Außenbereich | H1: Preis / m²
A2: 1 | B2: Erdgeschoss | C2: Flur | D2: 3.85 | E2: 38.1 | F2: 2 | G2: - | H2: 4593.1759
A3: 1 | B3: Erdgeschoss | C3: Bad | D3: 5.45 | E3: 38.1 | F3: 2 | G3: - | H3: 4593.1759
A4: 1 | B4: Erdgeschoss | C4: Wohnen / Essen / Kochen | D4: 15.19 | E4: 38.1 | F4: 2 | G4: - | H4: 4593.1759
A5: 1 | B5: Erdgeschoss | C5: Schlafen | D5: 10.31 | E5: 38.1 | F5: 2 | G5: - | H5: 4593.1759
A6: 1 | B6: Erdgeschoss | C6: Abstellraum | D6: 3.3 | E6: 38.1 | F6: 2 | G6: - | H6: 4593.1759
A7: 2 | B7: Erdgeschoss | C7: Flur | D7: 2.79 | E7: 60.71 | F7: 3 | G7: Terrasse | H7: 4365.014
A8: 2 | B8: Erdgeschoss | C8: Abstellraum | D8: 1.9 | E8: 60.71 | F8: 3 | G8: Terrasse | H8: 4365.014
A9: 2 | B9: Erdgeschoss | C9: Bad | D9: 5.45 | E9: 60.71 | F9: 3 | G9: Terrasse | H9: 4365.014
A10: 2 | B10: Erdgeschoss | C10: Kind | D10: 10.39 | E10: 60.71 | F10: 3 | G10: Terrasse | H10: 4365.014
A11: 2 | B11: Erdgeschoss | C11: Schlafen | D11: 14.89 | E11: 60.71 | F11: 3 | G11: Terrasse | H11: 4365.014
A12: 2 | B12: Erdgeschoss | C12: Wohnen / Essen / Kochen | D12: 23.29 | E12: 60.71 | F12: 3 | G12: Terrasse | H12: 4365.014
A13: 2 | B13: Erdgeschoss | C13: Terrasse, 25 % | D13: 2 | E13: 60.71 | F13: 3 | G13: Terrasse | H13: 4365.014
... A138: 20 | B138: Staffelgeschoss | C138: Dachterrasse, 25 % | D138: 8.49 | E138: 112.89 | F138: 3 | G138: Dachterrasse | H138: 4561.963

Sheet Kalkulation
A1: VERKAUFSKALKULATION | DANNENBAUMSTRASSE 34
A3: Grundlage | B3: Wert | D3: Kennzahl | E3: Ergebnis
A4: Wohneinheiten | B4: 20 | D4: Wohnungserlöse | E4: =SUM(Wohnungen!H2:H21)
A5: Stellplätze | B5: 15 | D5: Stellplatzerlöse | E5: =SUM('Stellplätze'!B2:B16)
A6: Stellplatzpreis | B6: 15000 | D6: Gesamterlös | E6: =E4+E5
A7: Zuordnung | B7: Keine feste Wohnungszuordnung | D7: Ø Preis / m² | E7: =SUMPRODUCT(Wohnungen!D2:D21,Wohnungen!G2:G21)/SUM(Wohnungen!D2:D21)
D8: Gesamtwohnfläche | E8: =SUM(Wohnungen!D2:D21)
A10: Wichtig: Die 15 Stellplätze sind eigenständige Verkaufspositionen und keiner Wohnung fest zugeordnet. Wohnungskaufpreise enthalten daher keinen Stellplatz. Käufer können einen verfügbaren Stellplatz separat erwerben.

Sheet Listen
A1: Status
A2: Verfügbar
A3: Reserviert
A4: Verkauft
